Workbook

Sheet INSTRUCTIONS

Sheet Details
A1: Name:
A2: Unit:
A3: Direct Supervisor:
A4: FY25 Contact Hour Total | I4: FY26 Contact Hour Total | Q4: FY27 Contact Hour Total
A5: Activity | B5: Research Administration (12 hrs min) | C5: Team Building | D5: Other Continuing Education | E5: Date(s) | F5: Total (Auto Calculated) | G5: Documentation | I5: Activity | J5: Research Administration (12 hrs min) | K5: Team Building | L5: Other Continuing Education | M5: Date(s) | N5: Total (Auto Calculated) | O5: =+G5 -> Documentation | Q5: Activity | R5: Research Administration | S5: Team Building | T5: Other Continuing Education | U5: Date(s) | V5: Total (Auto Calculated) | W5: =+G5 -> Documentation
A6: Research at Emory (RAE) Instructor-Led Training | B6: =SUM(B7:B10) -> 0 | C6: =SUM(C7:C10) -> 0 | D6: =SUM(D7:D10) -> 0 | F6: =SUM(B6:D6) -> 0 | I6: Research at Emory (RAE) Instructor-Led Training | J6: =SUM(J7:J10) -> 0 | K6: =SUM(K7:K10) -> 0 | L6: =SUM(L7:L10) -> 0 | N6: =SUM(J6:L6) -> 0 | Q6: Research at Emory (RAE) Instructor-Led Training | R6: =SUM(R7:R10) -> 0 | S6: =SUM(S7:S10) -> 0 | T6: =SUM(T7:T10) -> 0 | V6: =SUM(R6:T6) -> 0
F7: =IF(B7+C7+D7>0,B7+C7+D7,"") | N7: =IF(J7+K7+L7>0,J7+K7+L7,"") | V7: =IF(R7+S7+T7>0,R7+S7+T7,"") | Y7: CHyears
F8: =IF(B8+C8+D8>0,B8+C8+D8,"") | N8: =IF(J8+K8+L8>0,J8+K8+L8,"") | V8: =IF(R8+S8+T8>0,R8+S8+T8,"") | Y8: 2011
F9: =IF(B9+C9+D9>0,B9+C9+D9,"") | N9: =IF(J9+K9+L9>0,J9+K9+L9,"") | V9: =IF(R9+S9+T9>0,R9+S9+T9,"") | Y9: 2012
F10: =IF(B10+C10+D10>0,B10+C10+D10,"") | N10: =IF(J10+K10+L10>0,J10+K10+L10,"") | V10: =IF(R10+S10+T10>0,R10+S10+T10,"") | Y10: 2013
A11: SRAI LevelUP Modules | B11: =SUM(B12:B19) -> 0 | C11: =SUM(C12:C19) -> 0 | D11: =SUM(D12:D19) -> 0 | F11: =SUM(B11:D11) -> 0 | I11: SRAI LevelUP Modules | J11: =SUM(J12:J19) -> 0 | K11: =SUM(K12:K19) -> 0 | L11: =SUM(L12:L19) -> 0 | N11: =SUM(J11:L11) -> 0 | Q11: SRAI LevelUP Modules | R11: =SUM(R12:R19) -> 0 | S11: =SUM(S12:S19) -> 0 | T11: =SUM(T12:T19) -> 0 | V11: =SUM(R11:T11) -> 0 | Y11: 2018
N12: =IF(J12+K12+L12>0,J12+K12+L12,"") | V12: =IF(R12+S12+T12>0,R12+S12+T12,"") | Y12: 2019
N13: =IF(J13+K13+L13>0,J13+K13+L13,"") | V13: =IF(R13+S13+T13>0,R13+S13+T13,"") | Y13: 2020
F14: =IF(B14+C14+D14>0,B14+C14+D14,"") | N14: =IF(J14+K14+L14>0,J14+K14+L14,"") | V14: =IF(R14+S14+T14>0,R14+S14+T14,"") | Y14: 2021
F15: =IF(B15+C15+D15>0,B15+C15+D15,"") | N15: =IF(J15+K15+L15>0,J15+K15+L15,"") | V15: =IF(R15+S15+T15>0,R15+S15+T15,"") | Y15: 2022
F16: =IF(B16+C16+D16>0,B16+C16+D16,"") | N16: =IF(J16+K16+L16>0,J16+K16+L16,"") | V16: =IF(R16+S16+T16>0,R16+S16+T16,"") | Y16: 2023
F17: =IF(B17+C17+D17>0,B17+C17+D17,"") | N17: =IF(J17+K17+L17>0,J17+K17+L17,"") | V17: =IF(R17+S17+T17>0,R17+S17+T17,"") | Y17: 2024
F18: =IF(B18+C18+D18>0,B18+C18+D18,"") | N18: =IF(J18+K18+L18>0,J18+K18+L18,"") | V18: =IF(R18+S18+T18>0,R18+S18+T18,"") | Y18: 2025
F19: =IF(B19+C19+D19>0,B19+C19+D19,"") | N19: =IF(J19+K19+L19>0,J19+K19+L19,"") | V19: =IF(R19+S19+T19>0,R19+S19+T19,"") | Y19: 2026
A20: ORA Offerings (e.g., Boot Camps, Tech Tips, Research Week sessions, RACC Study Group, etc.) | B20: =SUM(B21:B30) -> 0 | C20: =SUM(C21:C30) -> 0 | D20: =SUM(D21:D30) -> 0 | F20: =SUM(B20:D20) -> 0 | I20: ORA Offerings (e.g., Boot Camps, Tech Tips, Research Week sessions, RACC Study Group, etc.) | J20: =SUM(J21:J30) -> 0 | K20: =SUM(K21:K30) -> 0 | L20: =SUM(L21:L30) -> 0 | N20: =SUM(J20:L20) -> 0 | Q20: ORA Offerings (e.g., Boot Camps, Tech Tips, Research Week sessions, RACC Study Group, etc.) | R20: =SUM(R21:R30) -> 0 | S20: =SUM(S21:S30) -> 0 | T20: =SUM(T21:T30) -> 0 | V20: =SUM(R20:T20) -> 0 | Y20: 2027
F21: =IF(B21+C21+D21>0,B21+C21+D21,"") | N21: =IF(J21+K21+L21>0,J21+K21+L21,"") | V21: =IF(R21+S21+T21>0,R21+S21+T21,"") | Y21: 2028
F22: =IF(B22+C22+D22>0,B22+C22+D22,"") | N22: =IF(J22+K22+L22>0,J22+K22+L22,"") | V22: =IF(R22+S22+T22>0,R22+S22+T22,"")
F25: =IF(B25+C25+D25>0,B25+C25+D25,"") | N25: =IF(J25+K25+L25>0,J25+K25+L25,"") | V25: =IF(R25+S25+T25>0,R25+S25+T25,"") | Y25: Certs
F26: =IF(B26+C26+D26>0,B26+C26+D26,"") | N26: =IF(J26+K26+L26>0,J26+K26+L26,"") | V26: =IF(R26+S26+T26>0,R26+S26+T26,"")
F27: =IF(B27+C27+D27>0,B27+C27+D27,"") | N27: =IF(J27+K27+L27>0,J27+K27+L27,"") | V27: =IF(R27+S27+T27>0,R27+S27+T27,"") | Y27: CRA
F28: =IF(B28+C28+D28>0,B28+C28+D28,"") | N28: =IF(J28+K28+L28>0,J28+K28+L28,"") | V28: =IF(R28+S28+T28>0,R28+S28+T28,"") | Y28: CPRA
F29: =IF(B29+C29+D29>0,B29+C29+D29,"") | N29: =IF(J29+K29+L29>0,J29+K29+L29,"") | V29: =IF(R29+S29+T29>0,R29+S29+T29,"") | Y29: CFRA
F30: =IF(B30+C30+D30>0,B30+C30+D30,"") | N30: =IF(J30+K30+L30>0,J30+K30+L30,"") | V30: =IF(R30+S30+T30>0,R30+S30+T30,"")
A31: Other Emory University Offerngs (e.g., LOD) | B31: =SUM(B32:B41) -> 0 | C31: =SUM(C32:C41) -> 0 | D31: =SUM(D32:D41) -> 0 | F31: =SUM(B31:D31) -> 0 | I31: Other Emory University Offerngs (e.g., LOD) | J31: =SUM(J32:J41) -> 0 | K31: =SUM(K32:K41) -> 0 | L31: =SUM(L32:L41) -> 0 | N31: =SUM(J31:L31) -> 0 | Q31: Other Emory University Offerngs (e.g., LOD) | R31: =SUM(R32:R41) -> 0 | S31: =SUM(S32:S41) -> 0 | T31: =SUM(T32:T41) -> 0 | V31: =SUM(R31:T31) -> 0
F32: =IF(B32+C32+D32>0,B32+C32+D32,"") | N32: =IF(J32+K32+L32>0,J32+K32+L32,"") | V32: =IF(R32+S32+T32>0,R32+S32+T32,"")
F35: =IF(B35+C35+D35>0,B35+C35+D35,"") | N35: =IF(J35+K35+L35>0,J35+K35+L35,"") | V35: =IF(R35+S35+T35>0,R35+S35+T35,"")
F36: =IF(B36+C36+D36>0,B36+C36+D36,"") | N36: =IF(J36+K36+L36>0,J36+K36+L36,"") | V36: =IF(R36+S36+T36>0,R36+S36+T36,"")
F37: =IF(B37+C37+D37>0,B37+C37+D37,"") | N37: =IF(J37+K37+L37>0,J37+K37+L37,"") | V37: =IF(R37+S37+T37>0,R37+S37+T37,"")
F38: =IF(B38+C38+D38>0,B38+C38+D38,"") | N38: =IF(J38+K38+L38>0,J38+K38+L38,"") | V38: =IF(R38+S38+T38>0,R38+S38+T38,"")
F39: =IF(B39+C39+D39>0,B39+C39+D39,"") | N39: =IF(J39+K39+L39>0,J39+K39+L39,"") | V39: =IF(R39+S39+T39>0,R39+S39+T39,"")
F40: =IF(B40+C40+D40>0,B40+C40+D40,"") | N40: =IF(J40+K40+L40>0,J40+K40+L40,"") | V40: =IF(R40+S40+T40>0,R40+S40+T40,"")
F41: =IF(B41+C41+D41>0,B41+C41+D41,"") | N41: =IF(J41+K41+L41>0,J41+K41+L41,"") | V41: =IF(R41+S41+T41>0,R41+S41+T41,"")
A42: Non-Emory University Offerings (e.g., NCURA, Other Professional Organizations & Certifications, CITI, etc.) | B42: =SUM(B43:B52) -> 0 | C42: =SUM(C43:C52) -> 0 | D42: =SUM(D43:D52) -> 0 | F42: =SUM(B42:D42) -> 0 | I42: Non-Emory University Offerings (e.g., NCURA, Other Professional Organizations & Certifications, CITI, etc.) | J42: =SUM(J43:J52) -> 0 | K42: =SUM(K43:K52) -> 0 | L42: =SUM(L43:L52) -> 0 | N42: =SUM(J42:L42) -> 0 | Q42: Non-Emory University Offerings (e.g., NCURA, Other Professional Organizations & Certifications, CITI, etc.) | R42: =SUM(R43:R52) -> 0 | S42: =SUM(S43:S52) -> 0 | T42: =SUM(T43:T52) -> 0 | V42: =SUM(R42:T42) -> 0
F43: =IF(B43+C43+D43>0,B43+C43+D43,"") | N43: =IF(J43+K43+L43>0,J43+K43+L43,"") | V43: =IF(R43+S43+T43>0,R43+S43+T43,"")
F44: =IF(B44+C44+D44>0,B44+C44+D44,"") | N44: =IF(J44+K44+L44>0,J44+K44+L44,"") | V44: =IF(R44+S44+T44>0,R44+S44+T44,"")
...

Sheet Summary
A1: FY25 | B1: Contact Hours
A2: Activity | B2: Research Administration (12 hours required) | C2: Team Building (1 hour required) | D2: Other | E2: Total (15 hours minimum)
A3: RAE Instructor-Led Training | B3: =Details!B6 -> 0 | C3: =Details!C6 -> 0 | D3: =Details!D6 -> 0 | E3: =Details!F6 -> 0
A4: SRAI LevelUP Modules | B4: =Details!B11 -> 0 | C4: =Details!C11 -> 0 | D4: =Details!D11 -> 0 | E4: =Details!F11 -> 0
A5: ORA Offerings | B5: =+Details!B20 -> 0 | C5: =Details!C20 -> 0 | D5: =+Details!D20 -> 0 | E5: =+Details!F20 -> 0
A6: Other Emory University Offerings | B6: =+Details!B31 -> 0 | C6: =Details!C31 -> 0 | D6: =+Details!D31 -> 0 | E6: =+Details!F31 -> 0
A7: Non-Emory University Offerings | B7: =+Details!B42 -> 0 | C7: =Details!C42 -> 0 | D7: =+Details!D42 -> 0 | E7: =+Details!F42 -> 0
A8: Activity TOTALS | B8: =SUM(B3:B7) -> 0 | C8: =SUM(C3:C7) -> 0 | D8: =SUM(D3:D7) -> 0 | E8: =SUM(E3:E7) -> 0
A10: FY26 | B10: Contact Hours
A11: Activity | B11: Research Administration (12 hours required) | C11: Team Building (1 hour required) | D11: Other | E11: Total (15 hours minimum)
A12: RAE Instructor-Led Training | B12: =+Details!J6 -> 0 | C12: =Details!K6 -> 0 | D12: =+Details!L6 -> 0 | E12: =+Details!N6 -> 0
A13: SRAI LevelUP Modules | B13: =+Details!J11 -> 0 | C13: =Details!K11 -> 0 | D13: =+Details!L11 -> 0 | E13: =+Details!N11 -> 0
A14: ORA Offerings | B14: =+Details!J20 -> 0 | C14: =Details!K20 -> 0 | D14: =+Details!L20 -> 0 | E14: =+Details!N20 -> 0
A15: Other Emory University Offerings | B15: =+Details!J31 -> 0 | C15: =Details!K31 -> 0 | D15: =+Details!L31 -> 0 | E15: =+Details!N31 -> 0
A16: Non-Emory University Offerings | B16: =+Details!J42 -> 0 | C16: =Details!K42 -> 0 | D16: =+Details!L42 -> 0 | E16: =+Details!N42 -> 0
A17: Activity TOTALS | B17: =SUM(B12:B16) -> 0 | C17: =SUM(C12:C16) -> 0 | D17: =SUM(D12:D16) -> 0 | E17: =SUM(E12:E16) -> 0
A19: FY27 | B19: Contact Hours
A20: Activity | B20: Research Administration (12 hours required) | C20: Team Building (1 hour required) | D20: Other | E20: Total (15 hours minimum)
A21: RAE Instructor-Led Training | B21: =+Details!R6 -> 0 | C21: =Details!S6 -> 0 | D21: =+Details!T6 -> 0 | E21: =+Details!V6 -> 0
A22: SRAI LevelUP Modules | B22: =+Details!R11 -> 0 | C22: =Details!S11 -> 0 | D22: =+Details!T11 -> 0 | E22: =+Details!V11 -> 0
A23: ORA Offerings | B23: =+Details!R20 -> 0 | C23: =Details!S20 -> 0 | D23: =+Details!T20 -> 0 | E23: =+Details!V20 -> 0
A24: Other Emory University Offerings | B24: =+Details!R31 -> 0 | C24: =Details!S31 -> 0 | D24: =+Details!T31 -> 0 | E24: =+Details!V31 -> 0
A25: Non-Emory University Offerings | B25: =+Details!R42 -> 0 | C25: =Details!S42 -> 0 | D25: =+Details!T42 -> 0 | E25: =+Details!V42 -> 0
A26: Activity TOTALS | B26: =SUM(B21:B25) -> 0 | C26: =SUM(C21:C25) -> 0 | D26: =SUM(D21:D25) -> 0 | E26: =SUM(E21:E25) -> 0
A28: GRAND TOTAL | B28: =SUM(B8+B17+B26) -> 0 | C28: =SUM(C8+C17+C26) -> 0 | D28: =SUM(D8+D17+D26) -> 0 | E28: =SUM(E8+E17+E26) -> 0
A29: Recertification: | D29: =IF(D28>=64,"Preaward CH Requirement Met","")
A30: =Details!B2 -> 0 | D30: =IF(#REF!>=64,"Financial CH Requirement Met","") -> #REF!
D31: =IF(E28>=80,"Total CH Requirement Met","")
